BEGIN:VCALENDAR
VERSION:2.0
PRODID:-// - ECPv6.2.2.1//NONSGML v1.0//EN
CALSCALE:GREGORIAN
METHOD:PUBLISH
X-ORIGINAL-URL:https://schloss-fischau.at
X-WR-CALDESC:Veranstaltungen für 
REFRESH-INTERVAL;VALUE=DURATION:PT1H
X-Robots-Tag:noindex
X-PUBLISHED-TTL:PT1H
BEGIN:VTIMEZONE
TZID:Europe/Vienna
BEGIN:DAYLIGHT
TZOFFSETFROM:+0100
TZOFFSETTO:+0200
TZNAME:CEST
DTSTART:20260329T010000
END:DAYLIGHT
BEGIN:STANDARD
TZOFFSETFROM:+0200
TZOFFSETTO:+0100
TZNAME:CET
DTSTART:20261025T010000
END:STANDARD
END:VTIMEZONE
BEGIN:VEVENT
DTSTART;VALUE=DATE:20260709
DTEND;VALUE=DATE:20260712
DTSTAMP:20260425T221445
CREATED:20260122T081655Z
LAST-MODIFIED:20260131T211100Z
UID:14199-1783555200-1783814399@schloss-fischau.at
SUMMARY:Musikwerkstatt für Gesang "WE SHALL OVERCOME ONE DAY“...
DESCRIPTION:…Lieder\, Arien\, Songs und Musik zum Thema „Frieden für unsere Welt“ \nMusik zum Thema „Frieden für unsere Welt“ \nTermin: Donnerstag\, 9. Juli – Samstag\, 11. Juli 2026\nAbschlusskonzert: Samstag\, 11. Juli 2026\, 17:00 Uhr\nKursleitung: Mag. Barbra Kajetanowicz\nKursgebühr: EUR 330\,- \nDie Musikwerkstatt Gesang 2026 hat zum Titel ein christliches Gospellied\, das in den 40er Jahren des vorigen Jahrhunderts von den US-Bürgerrechtsbewegungen als Hymne umgedeutet wurde\, es steht für Hoffnung und friedlichen Widerstand. Als Motto für unseren Gesangskurs soll damit ein Zeichen gesetzt werden\, ein Appell für den Frieden in unserer Welt. Daher werden vor allem Lieder und Arien\, Songs und Ensembles zum Thema Frieden\, Liebe\, und Leben in Freude und Harmonie ins Zentrum gestellt werden\, auch rein instrumentale Stücke sind willkommen\, eventuell in Kombination mit Texten. Natürlich wird – wie immer – auch gerne auf die individuellen musikalischen Wünsche der Teilnehmer:innen eingegangen. An drei aufeinanderfolgenden Kurs-Tagen werden zusammen mit der Kursleiterin Mag. Barbara Kajetanowicz und der Korrepetitorin Emi Aizawa MA die gewählten Gesangsstücke einstudiert und beim Abschlusskonzert vor Publikum vorgetragen. \nZusatzangebote: \n– Atemgymnastik und Einsingen am Morgen im Schlossgarten\n– 1x pro Tag pro Teilnehmer:in eine Einheit Korrepetition \n– Ensemblesingen in der Mittagszeit \n– Sprechtechnik und Rhetorik \n– in Übungen und anhand von Texten\n– Kaffeepausen am Vor- und am Nachmittag – mitgebrachte Kuchen werden wie immer freudig angenommen 
URL:https://schloss-fischau.at/event/musikwerkstatt-fuer-gesang-7/
LOCATION:Schloss Fischau\, Wiener Neustädterstraße 3\, Bad Fischau-Brunn\, 2721\, Austria
ATTACH;FMTTYPE=image/jpeg:https://schloss-fischau.at/wp-content/uploads/2024/03/marius-masalar-rPOmLGwai2w-unsplash-scaled.jpg
ORGANIZER;CN="FORUM Bad Fischau-Brunn":MAILTO:art@schloss-fischau.at
END:VEVENT
END:VCALENDAR